BEGIN:VCALENDAR
VERSION:2.0
PRODID:-//Tukios.com/
BEGIN:VEVENT
UID:65463530-adf4-4238-a181-764b4dbcd9b2@www.blackburncurryfh.com
DTSTAMP:20260424T022451Z
DTSTART:20260428T150000Z
DTEND:20260428T160000Z
SUMMARY:Graveside Service
DESCRIPTION:
URL:https://www.blackburncurryfh.com/obituaries/wayne-stubbs
LOCATION:Long Branch Cemetery 5742 Long Branch Cemetery Road  
	Jacksonville FL 32234
GEO:30.1589346;-81.9837975
END:VEVENT
END:VCALENDAR