BEGIN:VCALENDAR
VERSION:2.0
PRODID:-//Tukios.com/
BEGIN:VEVENT
UID:3f21cfaf-0443-4c7a-b58b-5d0d868cd8fd@www.blackburncurryfh.com
DTSTAMP:20260424T022058Z
DTSTART:20260427T210000Z
DTEND:20260427T230000Z
SUMMARY:Visitation
DESCRIPTION:
URL:https://www.blackburncurryfh.com/obituaries/wayne-stubbs
LOCATION:Blackburn-Curry Funeral Chapel 380 North Lowder Street  
	Macclenny FL 32063
GEO:30.2856713;-82.1340062
END:VEVENT
END:VCALENDAR