BEGIN:VCALENDAR
VERSION:2.0
PRODID:-//Tukios.com/
BEGIN:VEVENT
UID:240caebc-277d-4dba-b9aa-601f11cdeffb@www.blackburncurryfh.com
DTSTAMP:20260423T234348Z
DTSTART:20260509T170000Z
DTEND:20260509T180000Z
SUMMARY:Memorial Service
DESCRIPTION:
URL:https://www.blackburncurryfh.com/obituaries/tonya-padilla
LOCATION:Sanderson Christian Revival Center 14302 Sapp Road  Glen Saint 
	Mary FL 32040
GEO:30.1634948;-82.2749654
END:VEVENT
END:VCALENDAR