BEGIN:VCALENDAR
VERSION:2.0
PRODID:-//Tukios.com/
BEGIN:VEVENT
UID:2414cecc-51f2-4584-b48f-2a4e410e1607@www.blackburncurryfh.com
DTSTAMP:20260423T173842Z
DTSTART:20260425
SUMMARY:Interment following funeral service
DESCRIPTION:
URL:https://www.blackburncurryfh.com/obituaries/charles-hatcher
LOCATION: 142 Jefferson Ave  Orange Park FL 32065
GEO:30.121613;-81.770366
END:VEVENT
END:VCALENDAR