BEGIN:VCALENDAR
VERSION:2.0
PRODID:-//Tukios.com/
BEGIN:VEVENT
UID:5395b483-495e-44ea-a1d0-9fd8ef6945cc@www.blackburncurryfh.com
DTSTAMP:20260423T173619Z
DTSTART:20260425T160000Z
DTEND:20260425T170000Z
SUMMARY:Funeral Service
DESCRIPTION:
URL:https://www.blackburncurryfh.com/obituaries/charles-hatcher
LOCATION:Black Pond Baptist Church 3644 Old Jennings Road  Middleburg FL 
	32068
GEO:30.1145398;-81.8478408
END:VEVENT
END:VCALENDAR