BEGIN:VCALENDAR
VERSION:2.0
PRODID:-//Tukios.com/
BEGIN:VEVENT
UID:b63b3ac5-4107-4aa2-a6ff-a01f23babc8c@www.blackburncurryfh.com
DTSTAMP:20260423T173908Z
DTSTART:20260425T150000Z
DTEND:20260425T160000Z
SUMMARY:Visitation
DESCRIPTION:
URL:https://www.blackburncurryfh.com/obituaries/charles-hatcher
LOCATION:Black Pond Baptist Church 3644 Old Jennings Road  Middleburg FL 
	32068
GEO:30.1145398;-81.8478408
END:VEVENT
END:VCALENDAR